BEGIN:VCALENDAR
VERSION:2.0
PRODID:-//eventon.com NONSGML v1.0//EN
CALSCALE:GREGORIAN
METHOD:PUBLISH
BEGIN:VEVENT
UID:69e73e6d4809b
DTSTAMP:20260421T090757Z
DTSTART:20260530T060000Z
DTEND:20260530T110000Z
LOCATION:Gora - Gasilski dom Petrinci 13a
SUMMARY:Gasilska orientacija GZ Ribnica 2026
DESCRIPTION:Gasilska orientacija GZ Ribnica 2026\nhttps://www.gzribnica.si/
 dogodek/gasilska-orientacija-gz-ribnica-2026/
URL:https://www.gzribnica.si/dogodek/gasilska-orientacija-gz-ribnica-2026/
END:VEVENT
END:VCALENDAR