BEGIN:VCALENDAR
VERSION:2.0
PRODID:-//eventon.com NONSGML v1.0//EN
CALSCALE:GREGORIAN
METHOD:PUBLISH
BEGIN:VEVENT
UID:69e73dc22a6d0
DTSTAMP:20260421T090506Z
DTSTART:20250504T080000Z
DTEND:20250504T090000Z
LOCATION:Župnijska cerkev sv. Štefana Grajska pot 17
SUMMARY:Florjanova maša in prevzem praporja PGD Ribnica
DESCRIPTION:Florjanova maša in prevzem praporja PGD Ribnica\nhttps://www.g
 zribnica.si/dogodek/florjanova-masa-in-prevzem-praporja-pgd-ribnica/
URL:https://www.gzribnica.si/dogodek/florjanova-masa-in-prevzem-praporja-pgd-ribnica/
END:VEVENT
END:VCALENDAR