BEGIN:VCALENDAR
VERSION:2.0
PRODID:-//eventon.com NONSGML v1.0//EN
CALSCALE:GREGORIAN
METHOD:PUBLISH
BEGIN:VEVENT
UID:69e72fc204581
DTSTAMP:20260421T080522Z
DTSTART:20250531T154500Z
DTEND:20250601T000000Z
LOCATION:Rokodelski center Ribnica Cesta na Ugar 6
SUMMARY:Proslava in veselica s Skupino Gadi - GZ Ribnica
DESCRIPTION:Vabimo vas\,  da se nam pridružite na osrednjem dogodku ob pra
 znovanju 70-letnice Gasilske zveze Ribnica\,  ki bo potekal v soboto\,  31.
  maja 2025. Dogodek bo združil gasilsko parado\,  slavnostno proslavo in v
 eselico s skupino Gadi. Program dogodka 17:00 Zbor uniformiranih gasilcev p
 ri Župnijski cerkvi sv. Štefana 17:40 Začetek gasilske parada[..]\nhttps
 ://www.gzribnica.si/dogodek/proslava-70-let-gasilske-zveze-ribnica/
URL:https://www.gzribnica.si/dogodek/proslava-70-let-gasilske-zveze-ribnica/
END:VEVENT
END:VCALENDAR